BEGIN:VCALENDAR
VERSION:2.0
PRODID:-//Tantalus - ECPv6.15.19//NONSGML v1.0//EN
CALSCALE:GREGORIAN
METHOD:PUBLISH
X-WR-CALNAME:Tantalus
X-ORIGINAL-URL:https://tantalus.com
X-WR-CALDESC:Events for Tantalus
REFRESH-INTERVAL;VALUE=DURATION:PT1H
X-Robots-Tag:noindex
X-PUBLISHED-TTL:PT1H
BEGIN:VTIMEZONE
TZID:America/New_York
BEGIN:DAYLIGHT
TZOFFSETFROM:-0500
TZOFFSETTO:-0400
TZNAME:EDT
DTSTART:20240310T070000
END:DAYLIGHT
BEGIN:STANDARD
TZOFFSETFROM:-0400
TZOFFSETTO:-0500
TZNAME:EST
DTSTART:20241103T060000
END:STANDARD
BEGIN:DAYLIGHT
TZOFFSETFROM:-0500
TZOFFSETTO:-0400
TZNAME:EDT
DTSTART:20250309T070000
END:DAYLIGHT
BEGIN:STANDARD
TZOFFSETFROM:-0400
TZOFFSETTO:-0500
TZNAME:EST
DTSTART:20251102T060000
END:STANDARD
BEGIN:DAYLIGHT
TZOFFSETFROM:-0500
TZOFFSETTO:-0400
TZNAME:EDT
DTSTART:20260308T070000
END:DAYLIGHT
BEGIN:STANDARD
TZOFFSETFROM:-0400
TZOFFSETTO:-0500
TZNAME:EST
DTSTART:20261101T060000
END:STANDARD
END:VTIMEZONE
BEGIN:VEVENT
DTSTART;VALUE=DATE:20250309
DTEND;VALUE=DATE:20250313
DTSTAMP:20260421T174021
CREATED:20241211T171021Z
LAST-MODIFIED:20241211T171021Z
UID:10000483-1741478400-1741823999@tantalus.com
SUMMARY:TechAdvantage 2025
DESCRIPTION:Join Tantalus in Booth #935. \nTechAdvantage is the premier event for technology professionals to explore the solutions and strategies shaping and driving the future of the electric cooperative industry.  Register here >> \nGeorgia World Congress Center\n285 Andrew Young International Blvd.\, NW \nAtlanta\, Georgia 30313 
URL:https://tantalus.com/event/ta-2025/
CATEGORIES:Conference,Investor
ATTACH;FMTTYPE=image/webp:https://tantalus.com/wp-content/uploads/2024/12/TA.webp
END:VEVENT
END:VCALENDAR